BEGIN:VCALENDAR
VERSION:2.0
PRODID:-//Stillwater Rifle and Pistol Club - ECPv6.15.20//NONSGML v1.0//EN
CALSCALE:GREGORIAN
METHOD:PUBLISH
X-ORIGINAL-URL:https://srpc.info/wp
X-WR-CALDESC:Events for Stillwater Rifle and Pistol Club
REFRESH-INTERVAL;VALUE=DURATION:PT1H
X-Robots-Tag:noindex
X-PUBLISHED-TTL:PT1H
BEGIN:VTIMEZONE
TZID:America/Chicago
BEGIN:DAYLIGHT
TZOFFSETFROM:-0600
TZOFFSETTO:-0500
TZNAME:CDT
DTSTART:20250309T080000
END:DAYLIGHT
BEGIN:STANDARD
TZOFFSETFROM:-0500
TZOFFSETTO:-0600
TZNAME:CST
DTSTART:20251102T070000
END:STANDARD
BEGIN:DAYLIGHT
TZOFFSETFROM:-0600
TZOFFSETTO:-0500
TZNAME:CDT
DTSTART:20260308T080000
END:DAYLIGHT
BEGIN:STANDARD
TZOFFSETFROM:-0500
TZOFFSETTO:-0600
TZNAME:CST
DTSTART:20261101T070000
END:STANDARD
BEGIN:DAYLIGHT
TZOFFSETFROM:-0600
TZOFFSETTO:-0500
TZNAME:CDT
DTSTART:20270314T080000
END:DAYLIGHT
BEGIN:STANDARD
TZOFFSETFROM:-0500
TZOFFSETTO:-0600
TZNAME:CST
DTSTART:20271107T070000
END:STANDARD
END:VTIMEZONE
BEGIN:VEVENT
DTSTART;TZID=America/Chicago:20260419T080000
DTEND;TZID=America/Chicago:20260419T143000
DTSTAMP:20260424T213232
CREATED:20260324T142210Z
LAST-MODIFIED:20260324T142210Z
UID:3511-1776585600-1776609000@srpc.info
SUMMARY:High Power Prone Rifle Match
DESCRIPTION:Long range bays closed during the match.
URL:https://srpc.info/wp/event/high-power-prone-rifle-match-17/
CATEGORIES:Rifle
END:VEVENT
END:VCALENDAR