BEGIN:VCALENDAR
VERSION:2.0
PRODID:-//Stillwater Rifle and Pistol Club - ECPv6.15.20//NONSGML v1.0//EN
CALSCALE:GREGORIAN
METHOD:PUBLISH
X-WR-CALNAME:Stillwater Rifle and Pistol Club
X-ORIGINAL-URL:https://srpc.info/wp
X-WR-CALDESC:Events for Stillwater Rifle and Pistol Club
REFRESH-INTERVAL;VALUE=DURATION:PT1H
X-Robots-Tag:noindex
X-PUBLISHED-TTL:PT1H
BEGIN:VTIMEZONE
TZID:America/Chicago
BEGIN:DAYLIGHT
TZOFFSETFROM:-0600
TZOFFSETTO:-0500
TZNAME:CDT
DTSTART:20250309T080000
END:DAYLIGHT
BEGIN:STANDARD
TZOFFSETFROM:-0500
TZOFFSETTO:-0600
TZNAME:CST
DTSTART:20251102T070000
END:STANDARD
BEGIN:DAYLIGHT
TZOFFSETFROM:-0600
TZOFFSETTO:-0500
TZNAME:CDT
DTSTART:20260308T080000
END:DAYLIGHT
BEGIN:STANDARD
TZOFFSETFROM:-0500
TZOFFSETTO:-0600
TZNAME:CST
DTSTART:20261101T070000
END:STANDARD
BEGIN:DAYLIGHT
TZOFFSETFROM:-0600
TZOFFSETTO:-0500
TZNAME:CDT
DTSTART:20270314T080000
END:DAYLIGHT
BEGIN:STANDARD
TZOFFSETFROM:-0500
TZOFFSETTO:-0600
TZNAME:CST
DTSTART:20271107T070000
END:STANDARD
END:VTIMEZONE
BEGIN:VEVENT
DTSTART;TZID=America/Chicago:20261128T073000
DTEND;TZID=America/Chicago:20261128T150000
DTSTAMP:20260425T054545
CREATED:20260416T152741Z
LAST-MODIFIED:20260416T152741Z
UID:3636-1795851000-1795878000@srpc.info
SUMMARY:.22 BPCR Silhouette Match
DESCRIPTION:Contact John Gage (j_gage@sbcglobal.net) for more information about the match. \nFor more information about .22 BPCR http://www.22bpcra.com/
URL:https://srpc.info/wp/event/22-bpcr-silhouette-match-17/
CATEGORIES:Silhouette
END:VEVENT
END:VCALENDAR