BEGIN:VCALENDAR
VERSION:2.0
PRODID:-//Stillwater Rifle and Pistol Club - ECPv6.15.20//NONSGML v1.0//EN
CALSCALE:GREGORIAN
METHOD:PUBLISH
X-WR-CALNAME:Stillwater Rifle and Pistol Club
X-ORIGINAL-URL:https://srpc.info/wp
X-WR-CALDESC:Events for Stillwater Rifle and Pistol Club
REFRESH-INTERVAL;VALUE=DURATION:PT1H
X-Robots-Tag:noindex
X-PUBLISHED-TTL:PT1H
BEGIN:VTIMEZONE
TZID:America/Chicago
BEGIN:DAYLIGHT
TZOFFSETFROM:-0600
TZOFFSETTO:-0500
TZNAME:CDT
DTSTART:20240310T080000
END:DAYLIGHT
BEGIN:STANDARD
TZOFFSETFROM:-0500
TZOFFSETTO:-0600
TZNAME:CST
DTSTART:20241103T070000
END:STANDARD
BEGIN:DAYLIGHT
TZOFFSETFROM:-0600
TZOFFSETTO:-0500
TZNAME:CDT
DTSTART:20250309T080000
END:DAYLIGHT
BEGIN:STANDARD
TZOFFSETFROM:-0500
TZOFFSETTO:-0600
TZNAME:CST
DTSTART:20251102T070000
END:STANDARD
BEGIN:DAYLIGHT
TZOFFSETFROM:-0600
TZOFFSETTO:-0500
TZNAME:CDT
DTSTART:20260308T080000
END:DAYLIGHT
BEGIN:STANDARD
TZOFFSETFROM:-0500
TZOFFSETTO:-0600
TZNAME:CST
DTSTART:20261101T070000
END:STANDARD
BEGIN:DAYLIGHT
TZOFFSETFROM:-0600
TZOFFSETTO:-0500
TZNAME:CDT
DTSTART:20270314T080000
END:DAYLIGHT
BEGIN:STANDARD
TZOFFSETFROM:-0500
TZOFFSETTO:-0600
TZNAME:CST
DTSTART:20271107T070000
END:STANDARD
END:VTIMEZONE
BEGIN:VEVENT
DTSTART;TZID=America/Chicago:20260426T133000
DTEND;TZID=America/Chicago:20260426T163000
DTSTAMP:20260425T051959
CREATED:20260324T142909Z
LAST-MODIFIED:20260324T142909Z
UID:3519-1777210200-1777221000@srpc.info
SUMMARY:NRA First Steps Pistol Orientation Course
DESCRIPTION:Introduction\nStillwater Rifle & Pistol Club (SR&PC) offers a free pistol course that will benefit everyone regardless of his or her level of shooting experience. The course is taught by a team of NRA- certified instructors. The curriculum is based on the NRA First Steps Pistol Orientation course. It was revised\, however\, to make it helpful to not only new shooters but also experienced shooters. New shooters will learn how to safely handle pistols and shoot accurately in a comfortable and efficient way. Experienced shooters will be shooting a more challenging live fire course depending on his or her level of proficiency. It is recommended to repeat the course multiple times. Everyone who has successfully completed the course will receive a certificate from the NRA. The class is limited to ten students\, and its duration is approximately three hours. \nTime\n1:30-4:30 pm \nLocation\nSixty-yard bay of the SR&PC Range (Stillwater Rifle & Pistol Club on Google maps. The gate is at N36.1797° W97.1942°) \nEnrollment\nFor enrollment\, please email the following information to instructor@srpc.info: \n\nDate of class (Enrollment will close five days before the class. Enrollment for new students starts immediately; students who took this course two or more time can be added during the last four-week period before the class if there are available seats.)\nName*\nGender*\nAddress*\nPhone number*\nDate of birth*\nMake and model of your handgun\n\n* Required by the NRA. If you are attending the course repeatedly\, you do not need to send the same information again. \nFees\nThis course is free of charge. \nCourse Topics\n\nOverview of Gun Safety and Handgun Marksmanship (1 hour)\nLive Fire (2 hours)\n\nLive Fire Test\nAttendees will shoot standing with two hands at NRA B8 targets from a distance ranging from 5- 25 yards. The minimum requirement is to hit the 8-inch circle at five yards 80% of the time. Even first-time shooters can accomplish it without difficulty when coached properly. The distance will increase up to 25 yards depending on your level of proficiency. \nWhat to Bring\nBring a handgun\, approximately 100 rounds of ammunition\, eye and ear protection\, water\, snacks\, hat\, lawn chair\, and whatever else you may need for a few hours of outdoor activities. Instructors will provide guns if you do not own a handgun or want to try different types of handguns.
URL:https://srpc.info/wp/event/nra-first-steps-pistol-orientation-course-2/
CATEGORIES:Event
END:VEVENT
BEGIN:VEVENT
DTSTART;TZID=America/Chicago:20260425T100000
DTEND;TZID=America/Chicago:20260425T120000
DTSTAMP:20260425T051959
CREATED:20260324T142320Z
LAST-MODIFIED:20260324T142320Z
UID:3515-1777111200-1777118400@srpc.info
SUMMARY:Range Orientation - 10am
DESCRIPTION:Meet at the Ranger Station on the westside of Lake McMurtry. \nSignup for the class by emailing instructor@srpc.info \n 
URL:https://srpc.info/wp/event/range-orientation-10am-14/
LOCATION:Ranger Station
CATEGORIES:Range Orientation
END:VEVENT
BEGIN:VEVENT
DTSTART;TZID=America/Chicago:20260425T080000
DTEND;TZID=America/Chicago:20260425T170000
DTSTAMP:20260425T051959
CREATED:20260324T142520Z
LAST-MODIFIED:20260324T142520Z
UID:3517-1777104000-1777136400@srpc.info
SUMMARY:Shotgun Range CLOSED - OK Wildlife Department's Shotgun Training Education Program
DESCRIPTION:Shotgun Range CLOSED for OSU Wildlife Society Chapter w/ the OK Wildlife Department’s Shotgun Training Education Program
URL:https://srpc.info/wp/event/shotgun-range-closed-ok-wildlife-departments-shotgun-training-education-program/
CATEGORIES:Lane Closed,Shotgun
END:VEVENT
BEGIN:VEVENT
DTSTART;TZID=America/Chicago:20260425T073000
DTEND;TZID=America/Chicago:20260425T150000
DTSTAMP:20260425T051959
CREATED:20260324T142245Z
LAST-MODIFIED:20260324T142245Z
UID:3513-1777102200-1777129200@srpc.info
SUMMARY:.22 BPCR Silhouette Match
DESCRIPTION:Contact John Gage (j_gage@sbcglobal.net) for more information about the match. \nFor more information about .22 BPCR http://www.22bpcra.com/
URL:https://srpc.info/wp/event/22-bpcr-silhouette-match-10/
CATEGORIES:Silhouette
END:VEVENT
BEGIN:VEVENT
DTSTART;TZID=America/Chicago:20260421T080000
DTEND;TZID=America/Chicago:20260423T170000
DTSTAMP:20260425T051959
CREATED:20260323T000508Z
LAST-MODIFIED:20260323T002348Z
UID:3497-1776758400-1776963600@srpc.info
SUMMARY:Oklahoma SWAT Competition
DESCRIPTION:The Stillwater Multi-Jurisdictional SWAT Team will be hosting the State SWAT Competition\, and all Rifle and Pistol areas will be closed to other SR&PC members during this event. The shotgun area will be open for use by all members.
URL:https://srpc.info/wp/event/oklahoma-swat-competition-3/
CATEGORIES:Lane Closed
END:VEVENT
BEGIN:VEVENT
DTSTART;TZID=America/Chicago:20260419T080000
DTEND;TZID=America/Chicago:20260419T143000
DTSTAMP:20260425T051959
CREATED:20260324T142210Z
LAST-MODIFIED:20260324T142210Z
UID:3511-1776585600-1776609000@srpc.info
SUMMARY:High Power Prone Rifle Match
DESCRIPTION:Long range bays closed during the match.
URL:https://srpc.info/wp/event/high-power-prone-rifle-match-17/
CATEGORIES:Rifle
END:VEVENT
BEGIN:VEVENT
DTSTART;TZID=America/Chicago:20260418T073000
DTEND;TZID=America/Chicago:20260418T170000
DTSTAMP:20260425T051959
CREATED:20260324T142134Z
LAST-MODIFIED:20260324T142134Z
UID:3509-1776497400-1776531600@srpc.info
SUMMARY:PRS22 Rimfire shoot
DESCRIPTION:Contact Joe Maehs (jmaehs@sbcglobal.net) for more information about the match \nhttps://www.precisionrifleseries.com/profiles/rimfire/CE \nSRPC Long-Range bays\, area closed for match
URL:https://srpc.info/wp/event/prs22-rimfire-shoot-34/
LOCATION:Gun Range
CATEGORIES:Event
END:VEVENT
BEGIN:VEVENT
DTSTART;TZID=America/Chicago:20260414T190000
DTEND;TZID=America/Chicago:20260414T210000
DTSTAMP:20260425T051959
CREATED:20260324T142104Z
LAST-MODIFIED:20260324T142104Z
UID:3507-1776193200-1776200400@srpc.info
SUMMARY:Executive Board Meeting
DESCRIPTION:Stillwater Community Center \n 
URL:https://srpc.info/wp/event/executive-board-meeting-7/
LOCATION:Community Center\, 315 W 8th Ave\, Stillwater\, OK\, 74074\, United States
CATEGORIES:Executive Committee
END:VEVENT
BEGIN:VEVENT
DTSTART;TZID=America/Chicago:20260412T140000
DTEND;TZID=America/Chicago:20260412T170000
DTSTAMP:20260425T051959
CREATED:20260324T141956Z
LAST-MODIFIED:20260324T141956Z
UID:3505-1776002400-1776013200@srpc.info
SUMMARY:Shotgun Division Trap Shoot
DESCRIPTION:All are welcome to come and shoot! \nContact Mark Uhlman for more information. \nAt the SRPC trap range.
URL:https://srpc.info/wp/event/shotgun-division-trap-shoot-13/
CATEGORIES:Shotgun
END:VEVENT
BEGIN:VEVENT
DTSTART;TZID=America/Chicago:20260411T100000
DTEND;TZID=America/Chicago:20260411T130000
DTSTAMP:20260425T051959
CREATED:20260324T141850Z
LAST-MODIFIED:20260324T141850Z
UID:3503-1775901600-1775912400@srpc.info
SUMMARY:IDPA Pistol Match
DESCRIPTION:40\, 60\, and 100 yard bays will be closed for this event. \nSign up here: https://practiscore.com/srpc-idpa-4-11-26/register
URL:https://srpc.info/wp/event/idpa-pistol-match-12/
CATEGORIES:Lane Closed
END:VEVENT
BEGIN:VEVENT
DTSTART;TZID=America/Chicago:20260330T000000
DTEND;TZID=America/Chicago:20260330T235900
DTSTAMP:20260425T051959
CREATED:20260324T212233Z
LAST-MODIFIED:20260324T213202Z
UID:3579-1774828800-1774915140@srpc.info
SUMMARY:Long Range Bay Closed for Maintenance
DESCRIPTION:Notice: Beginning March 30\, the long range shooting area will be CLOSED for dirt work to fix the drainage issues. The pistol bays and Shotgun ranges will remain open. \nThere is quite a bit of brass on the ground from the Run-N-Gun\, and that is all up for grabs: any brass left on the ground will end up buried once work begins. 
URL:https://srpc.info/wp/event/long-range-bay-closed-for-maintenance/
CATEGORIES:Lane Closed
END:VEVENT
BEGIN:VEVENT
DTSTART;TZID=America/Chicago:20260329T000000
DTEND;TZID=America/Chicago:20260329T235900
DTSTAMP:20260425T051959
CREATED:20260106T171945Z
LAST-MODIFIED:20260324T213233Z
UID:3438-1774742400-1774828740@srpc.info
SUMMARY:Pistol Bays Closed for Maintenance
DESCRIPTION:Notice: Beginning March 29\, the pistol bays (1-3) will be CLOSED for dirt work to fix the drainage issues. The Long Range area and Shotgun ranges will remain open. \nThere is quite a bit of brass on the ground from the Run-N-Gun\, and that is all up for grabs: any brass left on the ground will end up buried once work begins. 
URL:https://srpc.info/wp/event/pistol-bays-closed-for-maintenance/
CATEGORIES:Lane Closed
END:VEVENT
BEGIN:VEVENT
DTSTART;TZID=America/Chicago:20260328T073000
DTEND;TZID=America/Chicago:20260328T150000
DTSTAMP:20260425T051959
CREATED:20260127T204354Z
LAST-MODIFIED:20260324T141429Z
UID:3485-1774683000-1774710000@srpc.info
SUMMARY:.22 BPCR Silhouette Match
DESCRIPTION:Contact John Gage (j_gage@sbcglobal.net) for more information about the match. \nFor more information about .22 BPCR http://www.22bpcra.com/
URL:https://srpc.info/wp/event/22-bpcr-silhouette-match-9/
CATEGORIES:Silhouette
END:VEVENT
BEGIN:VEVENT
DTSTART;TZID=America/Chicago:20260323T080000
DTEND;TZID=America/Chicago:20260325T170000
DTSTAMP:20260425T051959
CREATED:20260323T000229Z
LAST-MODIFIED:20260323T000229Z
UID:3495-1774252800-1774458000@srpc.info
SUMMARY:SPD Sniper School
DESCRIPTION:Long Range Area Closed to other SR&PC Members.
URL:https://srpc.info/wp/event/spd-sniper-school-2/
CATEGORIES:Lane Closed
END:VEVENT
BEGIN:VEVENT
DTSTART;TZID=America/Chicago:20260315T100000
DTEND;TZID=America/Chicago:20260315T130000
DTSTAMP:20260425T051959
CREATED:20260127T204834Z
LAST-MODIFIED:20260127T204834Z
UID:3491-1773568800-1773579600@srpc.info
SUMMARY:IDPA Pistol Match
DESCRIPTION:40\, 60\, and 100 yard bays will be closed for this event.
URL:https://srpc.info/wp/event/idpa-pistol-match-11/
CATEGORIES:Lane Closed
END:VEVENT
BEGIN:VEVENT
DTSTART;TZID=America/Chicago:20260314T080000
DTEND;TZID=America/Chicago:20260314T170000
DTSTAMP:20260425T051959
CREATED:20260127T204654Z
LAST-MODIFIED:20260127T204654Z
UID:3489-1773475200-1773507600@srpc.info
SUMMARY:2 Gun Match (all bays)
DESCRIPTION:8:00 AM Registration (summer hours earlier start)\n9:00 AM Safety briefing and detailed rules \nFees: $20 for 1 division; $30 for 2 divisions (details below) \nGuns: Rifle/Carbine and Pistol \nAmmo:\nMinimum 40 rifle and 50 pistol. Bring extra!\nSteel core/XM855 green tip rifle rounds are NOT allowed\, to preserve steel  targets.\nMinimum of two magazines are required for each gun.\nReputable holster for pistol\, needs to cover the trigger. \nNot allowed:\nSERPA (index finger unlocking) or soft holsters\nSturdy two-point sling for rifle. Single-point slings\, or slings that do not provide much control of the muzzle\, are highly discouraged.\nGuns must remain holstered or bagged\, and completely unloaded on the range until instructed to do so at the firing line.\nEye and ear protection is required. \n4 stages\nStages will be active\, with moving and shooting. Fingers MUST remain off the trigger\, and rifle safeties engaged when moving. Stages will be timed\, but the emphasis will be on being SAFE\, sharpening your shooting skills\, and having a good time with fellow shooters. The spirit of the event will be to prioritize accuracy over speed and treat the stages as if they were realistic defensive training scenarios. \nDivisions: \n\nOpen: Any optic on rifle and pistol allowed\, no equipment limitations. Center fire rifle and pistol. Target distances can be up to 500 yards.\nLimited: Any optic on rifle\, iron sights only on pistol. Pistol is limited to 10 rounds loaded per mag (mags can be any capacity). Center fire rifle and pistol. Target distances can be up to 500 yards.\nRimfire: Both rimfire rifle and pistol required. All optics/equipment allowed. Target distances can be up to 150 yards.\nPCC: Pistol caliber carbine and center fire pistol. All optics/equipment allowed. Target distances can be up to 150 yards.\n\nEntry fee is $20 for the first division\, and $10 more to shoot a second division.\nYou may only shoot an individual division once\, e.g. you cannot shoot Open twice\, but Open and Limited is allowed.\nYou do NOT have to sign in at the gate when entering the range for the match. \nContact Levi Krutzfeldt (levi.krutzfeldt@gmail.com) for any questions. \n40 yd\, 65 yd\, 100 yd and 500 yd bays will be closed to other members for this event.
URL:https://srpc.info/wp/event/2-gun-match-all-bays-9/
CATEGORIES:Event
END:VEVENT
BEGIN:VEVENT
DTSTART;TZID=America/Chicago:20260308T140000
DTEND;TZID=America/Chicago:20260308T170000
DTSTAMP:20260425T051959
CREATED:20260127T204603Z
LAST-MODIFIED:20260127T204603Z
UID:3487-1772978400-1772989200@srpc.info
SUMMARY:Shotgun Division Trap Shoot
DESCRIPTION:All are welcome to come and shoot! \nContact Mark Uhlman for more information. \nAt the SRPC trap range.
URL:https://srpc.info/wp/event/shotgun-division-trap-shoot-12/
CATEGORIES:Shotgun
END:VEVENT
BEGIN:VEVENT
DTSTART;TZID=America/Chicago:20260228T100000
DTEND;TZID=America/Chicago:20260228T120000
DTSTAMP:20260425T051959
CREATED:20260127T204321Z
LAST-MODIFIED:20260127T204321Z
UID:3483-1772272800-1772280000@srpc.info
SUMMARY:Range Orientation - 10am
DESCRIPTION:Meet at the Ranger Station on the westside of Lake McMurtry. \nSignup for the class by emailing instructor@srpc.info \n 
URL:https://srpc.info/wp/event/range-orientation-10am-13/
LOCATION:Ranger Station
CATEGORIES:Range Orientation
END:VEVENT
BEGIN:VEVENT
DTSTART;TZID=America/Chicago:20260221T073000
DTEND;TZID=America/Chicago:20260221T170000
DTSTAMP:20260425T051959
CREATED:20260127T204236Z
LAST-MODIFIED:20260127T204236Z
UID:3480-1771659000-1771693200@srpc.info
SUMMARY:PRS22 Rimfire shoot
DESCRIPTION:Contact Joe Maehs (jmaehs@sbcglobal.net) for more information about the match \nhttps://www.precisionrifleseries.com/profiles/rimfire/CE \nSRPC Long-Range bays\, area closed for match
URL:https://srpc.info/wp/event/prs22-rimfire-shoot-33/
LOCATION:Gun Range
CATEGORIES:Event
END:VEVENT
BEGIN:VEVENT
DTSTART;TZID=America/Chicago:20260214T100000
DTEND;TZID=America/Chicago:20260214T130000
DTSTAMP:20260425T051959
CREATED:20260127T204138Z
LAST-MODIFIED:20260202T151940Z
UID:3476-1771063200-1771074000@srpc.info
SUMMARY:IDPA Pistol Match
DESCRIPTION:40 and 60 yard bays will be closed for this event.
URL:https://srpc.info/wp/event/idpa-pistol-match-10/
CATEGORIES:Lane Closed
END:VEVENT
BEGIN:VEVENT
DTSTART;TZID=America/Chicago:20260210T190000
DTEND;TZID=America/Chicago:20260210T210000
DTSTAMP:20260425T051959
CREATED:20260127T204212Z
LAST-MODIFIED:20260127T204212Z
UID:3478-1770750000-1770757200@srpc.info
SUMMARY:Executive Board Meeting
DESCRIPTION:Stillwater Community Center \n 
URL:https://srpc.info/wp/event/executive-board-meeting-6/
LOCATION:Community Center\, 315 W 8th Ave\, Stillwater\, OK\, 74074\, United States
CATEGORIES:Executive Committee
END:VEVENT
BEGIN:VEVENT
DTSTART;TZID=America/Chicago:20260208T140000
DTEND;TZID=America/Chicago:20260208T170000
DTSTAMP:20260425T051959
CREATED:20260127T203930Z
LAST-MODIFIED:20260127T203930Z
UID:3474-1770559200-1770570000@srpc.info
SUMMARY:Shotgun Division Trap Shoot - Tentative
DESCRIPTION:All are welcome to come and shoot! \nContact Mark Uhlman for more information. \nAt the SRPC trap range.
URL:https://srpc.info/wp/event/shotgun-division-trap-shoot-tentative/
CATEGORIES:Shotgun
END:VEVENT
BEGIN:VEVENT
DTSTART;TZID=America/Chicago:20260208T140000
DTEND;TZID=America/Chicago:20260208T150000
DTSTAMP:20260425T051959
CREATED:20260106T175735Z
LAST-MODIFIED:20260123T225806Z
UID:3454-1770559200-1770562800@srpc.info
SUMMARY:Range Orientation - 2pm
DESCRIPTION:Meet at the Ranger Station on the westside of Lake McMurtry. \nSignup for the class by emailing instructor@srpc.info \n 
URL:https://srpc.info/wp/event/range-orientation-2pm-15/
LOCATION:Ranger Station
CATEGORIES:Range Orientation
END:VEVENT
BEGIN:VEVENT
DTSTART;TZID=America/Chicago:20260207T090000
DTEND;TZID=America/Chicago:20260207T140000
DTSTAMP:20260425T051959
CREATED:20260127T203002Z
LAST-MODIFIED:20260127T203002Z
UID:3464-1770454800-1770472800@srpc.info
SUMMARY:Work Day
DESCRIPTION:All shooting lanes are closed for maintenance: \n\nSaturday – 9am to 2pm\n\nIf you have questions about work day activities\, please contact Executive@srpc.info
URL:https://srpc.info/wp/event/work-day-21/
CATEGORIES:Work Day
END:VEVENT
BEGIN:VEVENT
DTSTART;TZID=America/Chicago:20260117T073000
DTEND;TZID=America/Chicago:20260117T170000
DTSTAMP:20260425T051959
CREATED:20260106T175527Z
LAST-MODIFIED:20260106T175527Z
UID:3452-1768635000-1768669200@srpc.info
SUMMARY:PRS22 Rimfire shoot
DESCRIPTION:Contact Joe Maehs (jmaehs@sbcglobal.net) for more information about the match \nhttps://www.precisionrifleseries.com/profiles/rimfire/CE \nSRPC Long-Range bays\, area closed for match
URL:https://srpc.info/wp/event/prs22-rimfire-shoot-32/
LOCATION:Gun Range
CATEGORIES:Event
END:VEVENT
BEGIN:VEVENT
DTSTART;TZID=America/Chicago:20260116T183000
DTEND;TZID=America/Chicago:20260116T210000
DTSTAMP:20260425T051959
CREATED:20260106T173851Z
LAST-MODIFIED:20260106T174422Z
UID:3442-1768588200-1768597200@srpc.info
SUMMARY:Annual Banquet & Business Meeting
DESCRIPTION:Stillwater Rifle & Pistol Club Annual Winter Meeting & Banquet\nGuests of members are welcomed! \nStillwater Community Center\n315 W 8th St. Stillwater\, OK 74074 \nCome join us at the Lowry Activity Center\, located inside the Stillwater Community Center\, for our semi-annual business meeting and banquet. This will be a potluck-style event. The club will provide the main dish – smoked brisket\, and we invite you to bring a side dish or dessert to share if you’re able. \n5:30 – Setup begins\n6:30 – Potluck dinner\n7:00 – Business meeting \nWe will hold a brief business meeting\, officer elections\, and vote on next year’s spending proposal. Membership packets will be available to pick up for those that have sent in their renewals.
URL:https://srpc.info/wp/event/annual-banquet-business-meeting-2026/
LOCATION:Community Center\, 315 W 8th Ave\, Stillwater\, OK\, 74074\, United States
CATEGORIES:Meeting
END:VEVENT
BEGIN:VEVENT
DTSTART;TZID=America/Chicago:20260111T140000
DTEND;TZID=America/Chicago:20260111T170000
DTSTAMP:20260425T051959
CREATED:20260106T175340Z
LAST-MODIFIED:20260106T175340Z
UID:3450-1768140000-1768150800@srpc.info
SUMMARY:Shotgun Division Trap Shoot
DESCRIPTION:All are welcome to come and shoot! \nContact Mark Uhlman for more information. \nAt the SRPC trap range.
URL:https://srpc.info/wp/event/shotgun-division-trap-shoot-11/
CATEGORIES:Shotgun
END:VEVENT
BEGIN:VEVENT
DTSTART;TZID=America/Chicago:20251122T073000
DTEND;TZID=America/Chicago:20251122T150000
DTSTAMP:20260425T051959
CREATED:20251001T153259Z
LAST-MODIFIED:20251001T153259Z
UID:3368-1763796600-1763823600@srpc.info
SUMMARY:.22 BPCR Silhouette Match
DESCRIPTION:Contact John Gage (j_gage@sbcglobal.net) for more information about the match. \nFor more information about .22 BPCR http://www.22bpcra.com/
URL:https://srpc.info/wp/event/22-bpcr-silhouette-match-8/
CATEGORIES:Silhouette
END:VEVENT
BEGIN:VEVENT
DTSTART;TZID=America/Chicago:20251116T133000
DTEND;TZID=America/Chicago:20251116T163000
DTSTAMP:20260425T051959
CREATED:20251103T154934Z
LAST-MODIFIED:20251103T155049Z
UID:3387-1763299800-1763310600@srpc.info
SUMMARY:NRA First Steps Pistol Orientation Course
DESCRIPTION:Introduction\nStillwater Rifle & Pistol Club (SR&PC) offers a free pistol course that will benefit everyone regardless of his or her level of shooting experience. The course is taught by a team of NRA- certified instructors. The curriculum is based on the NRA First Steps Pistol Orientation course. It was revised\, however\, to make it helpful to not only new shooters but also experienced shooters. New shooters will learn how to safely handle pistols and shoot accurately in a comfortable and efficient way. Experienced shooters will be shooting a more challenging live fire course depending on his or her level of proficiency. It is recommended to repeat the course multiple times. Everyone who has successfully completed the course will receive a certificate from the NRA. The class is limited to ten students\, and its duration is approximately three hours. \nDates and Time\n1:30-4:30 pm on the following dates: \n\nFebruary 23\, 2025\nApril 27\, 2025\nSeptember 21\, 2025\nNovember 16\, 2025\n\nLocation\nSixty-yard bay of the SR&PC Range (Stillwater Rifle & Pistol Club on Google maps. The gate is at N36.1797° W97.1942°) \nEnrollment\nFor enrollment\, please email the following information to youngchang07@gmail.com: \n\nDate of class (Enrollment will close five days before the class. Enrollment for new students starts immediately; students who took this course two or more time can be added during the last four-week period before the class if there are available seats.)\nName*\nGender*\nAddress*\nPhone number*\nDate of birth*\nMake and model of your handgun\n\n* Required by the NRA. If you are attending the course repeatedly\, you do not need to send the same information again. \nFees\nThis course is free of charge. \nCourse Topics\n\nOverview of Gun Safety and Handgun Marksmanship (1 hour)\nLive Fire (2 hours)\n\nLive Fire Test\nAttendees will shoot standing with two hands at NRA B8 targets from a distance ranging from 5- 25 yards. The minimum requirement is to hit the 8-inch circle at five yards 80% of the time. Even first-time shooters can accomplish it without difficulty when coached properly. The distance will increase up to 25 yards depending on your level of proficiency. \nWhat to Bring\nBring a handgun\, approximately 100 rounds of ammunition\, eye and ear protection\, water\, snacks\, hat\, lawn chair\, and whatever else you may need for a few hours of outdoor activities. Instructors will provide guns if you do not own a handgun or want to try different types of handguns.
URL:https://srpc.info/wp/event/nra-first-steps-pistol-orientation-course/
CATEGORIES:Event
END:VEVENT
BEGIN:VEVENT
DTSTART;TZID=America/Chicago:20251115T073000
DTEND;TZID=America/Chicago:20251115T170000
DTSTAMP:20260425T051959
CREATED:20251001T153233Z
LAST-MODIFIED:20251001T153233Z
UID:3366-1763191800-1763226000@srpc.info
SUMMARY:PRS22 Rimfire shoot
DESCRIPTION:Contact Joe Maehs (jmaehs@sbcglobal.net) for more information about the match \nhttps://www.precisionrifleseries.com/profiles/rimfire/CE
URL:https://srpc.info/wp/event/prs22-rimfire-shoot-31/
CATEGORIES:Event
END:VEVENT
END:VCALENDAR