BEGIN:VCALENDAR
VERSION:2.0
PRODID:-//Stillwater Rifle and Pistol Club - ECPv6.15.20//NONSGML v1.0//EN
CALSCALE:GREGORIAN
METHOD:PUBLISH
X-ORIGINAL-URL:https://srpc.info/wp
X-WR-CALDESC:Events for Stillwater Rifle and Pistol Club
REFRESH-INTERVAL;VALUE=DURATION:PT1H
X-Robots-Tag:noindex
X-PUBLISHED-TTL:PT1H
BEGIN:VTIMEZONE
TZID:America/Chicago
BEGIN:DAYLIGHT
TZOFFSETFROM:-0600
TZOFFSETTO:-0500
TZNAME:CDT
DTSTART:20250309T080000
END:DAYLIGHT
BEGIN:STANDARD
TZOFFSETFROM:-0500
TZOFFSETTO:-0600
TZNAME:CST
DTSTART:20251102T070000
END:STANDARD
BEGIN:DAYLIGHT
TZOFFSETFROM:-0600
TZOFFSETTO:-0500
TZNAME:CDT
DTSTART:20260308T080000
END:DAYLIGHT
BEGIN:STANDARD
TZOFFSETFROM:-0500
TZOFFSETTO:-0600
TZNAME:CST
DTSTART:20261101T070000
END:STANDARD
BEGIN:DAYLIGHT
TZOFFSETFROM:-0600
TZOFFSETTO:-0500
TZNAME:CDT
DTSTART:20270314T080000
END:DAYLIGHT
BEGIN:STANDARD
TZOFFSETFROM:-0500
TZOFFSETTO:-0600
TZNAME:CST
DTSTART:20271107T070000
END:STANDARD
END:VTIMEZONE
BEGIN:VEVENT
DTSTART;TZID=America/Chicago:20260308T140000
DTEND;TZID=America/Chicago:20260308T170000
DTSTAMP:20260424T153829
CREATED:20260127T204603Z
LAST-MODIFIED:20260127T204603Z
UID:3487-1772978400-1772989200@srpc.info
SUMMARY:Shotgun Division Trap Shoot
DESCRIPTION:All are welcome to come and shoot! \nContact Mark Uhlman for more information. \nAt the SRPC trap range.
URL:https://srpc.info/wp/event/shotgun-division-trap-shoot-12/
CATEGORIES:Shotgun
END:VEVENT
BEGIN:VEVENT
DTSTART;TZID=America/Chicago:20260314T080000
DTEND;TZID=America/Chicago:20260314T170000
DTSTAMP:20260424T153829
CREATED:20260127T204654Z
LAST-MODIFIED:20260127T204654Z
UID:3489-1773475200-1773507600@srpc.info
SUMMARY:2 Gun Match (all bays)
DESCRIPTION:8:00 AM Registration (summer hours earlier start)\n9:00 AM Safety briefing and detailed rules \nFees: $20 for 1 division; $30 for 2 divisions (details below) \nGuns: Rifle/Carbine and Pistol \nAmmo:\nMinimum 40 rifle and 50 pistol. Bring extra!\nSteel core/XM855 green tip rifle rounds are NOT allowed\, to preserve steel  targets.\nMinimum of two magazines are required for each gun.\nReputable holster for pistol\, needs to cover the trigger. \nNot allowed:\nSERPA (index finger unlocking) or soft holsters\nSturdy two-point sling for rifle. Single-point slings\, or slings that do not provide much control of the muzzle\, are highly discouraged.\nGuns must remain holstered or bagged\, and completely unloaded on the range until instructed to do so at the firing line.\nEye and ear protection is required. \n4 stages\nStages will be active\, with moving and shooting. Fingers MUST remain off the trigger\, and rifle safeties engaged when moving. Stages will be timed\, but the emphasis will be on being SAFE\, sharpening your shooting skills\, and having a good time with fellow shooters. The spirit of the event will be to prioritize accuracy over speed and treat the stages as if they were realistic defensive training scenarios. \nDivisions: \n\nOpen: Any optic on rifle and pistol allowed\, no equipment limitations. Center fire rifle and pistol. Target distances can be up to 500 yards.\nLimited: Any optic on rifle\, iron sights only on pistol. Pistol is limited to 10 rounds loaded per mag (mags can be any capacity). Center fire rifle and pistol. Target distances can be up to 500 yards.\nRimfire: Both rimfire rifle and pistol required. All optics/equipment allowed. Target distances can be up to 150 yards.\nPCC: Pistol caliber carbine and center fire pistol. All optics/equipment allowed. Target distances can be up to 150 yards.\n\nEntry fee is $20 for the first division\, and $10 more to shoot a second division.\nYou may only shoot an individual division once\, e.g. you cannot shoot Open twice\, but Open and Limited is allowed.\nYou do NOT have to sign in at the gate when entering the range for the match. \nContact Levi Krutzfeldt (levi.krutzfeldt@gmail.com) for any questions. \n40 yd\, 65 yd\, 100 yd and 500 yd bays will be closed to other members for this event.
URL:https://srpc.info/wp/event/2-gun-match-all-bays-9/
CATEGORIES:Event
END:VEVENT
BEGIN:VEVENT
DTSTART;TZID=America/Chicago:20260315T100000
DTEND;TZID=America/Chicago:20260315T130000
DTSTAMP:20260424T153829
CREATED:20260127T204834Z
LAST-MODIFIED:20260127T204834Z
UID:3491-1773568800-1773579600@srpc.info
SUMMARY:IDPA Pistol Match
DESCRIPTION:40\, 60\, and 100 yard bays will be closed for this event.
URL:https://srpc.info/wp/event/idpa-pistol-match-11/
CATEGORIES:Lane Closed
END:VEVENT
BEGIN:VEVENT
DTSTART;TZID=America/Chicago:20260323T080000
DTEND;TZID=America/Chicago:20260325T170000
DTSTAMP:20260424T153829
CREATED:20260323T000229Z
LAST-MODIFIED:20260323T000229Z
UID:3495-1774252800-1774458000@srpc.info
SUMMARY:SPD Sniper School
DESCRIPTION:Long Range Area Closed to other SR&PC Members.
URL:https://srpc.info/wp/event/spd-sniper-school-2/
CATEGORIES:Lane Closed
END:VEVENT
BEGIN:VEVENT
DTSTART;TZID=America/Chicago:20260328T073000
DTEND;TZID=America/Chicago:20260328T150000
DTSTAMP:20260424T153829
CREATED:20260127T204354Z
LAST-MODIFIED:20260324T141429Z
UID:3485-1774683000-1774710000@srpc.info
SUMMARY:.22 BPCR Silhouette Match
DESCRIPTION:Contact John Gage (j_gage@sbcglobal.net) for more information about the match. \nFor more information about .22 BPCR http://www.22bpcra.com/
URL:https://srpc.info/wp/event/22-bpcr-silhouette-match-9/
CATEGORIES:Silhouette
END:VEVENT
BEGIN:VEVENT
DTSTART;TZID=America/Chicago:20260329T000000
DTEND;TZID=America/Chicago:20260329T235900
DTSTAMP:20260424T153829
CREATED:20260106T171945Z
LAST-MODIFIED:20260324T213233Z
UID:3438-1774742400-1774828740@srpc.info
SUMMARY:Pistol Bays Closed for Maintenance
DESCRIPTION:Notice: Beginning March 29\, the pistol bays (1-3) will be CLOSED for dirt work to fix the drainage issues. The Long Range area and Shotgun ranges will remain open. \nThere is quite a bit of brass on the ground from the Run-N-Gun\, and that is all up for grabs: any brass left on the ground will end up buried once work begins. 
URL:https://srpc.info/wp/event/pistol-bays-closed-for-maintenance/
CATEGORIES:Lane Closed
END:VEVENT
BEGIN:VEVENT
DTSTART;TZID=America/Chicago:20260330T000000
DTEND;TZID=America/Chicago:20260330T235900
DTSTAMP:20260424T153829
CREATED:20260324T212233Z
LAST-MODIFIED:20260324T213202Z
UID:3579-1774828800-1774915140@srpc.info
SUMMARY:Long Range Bay Closed for Maintenance
DESCRIPTION:Notice: Beginning March 30\, the long range shooting area will be CLOSED for dirt work to fix the drainage issues. The pistol bays and Shotgun ranges will remain open. \nThere is quite a bit of brass on the ground from the Run-N-Gun\, and that is all up for grabs: any brass left on the ground will end up buried once work begins. 
URL:https://srpc.info/wp/event/long-range-bay-closed-for-maintenance/
CATEGORIES:Lane Closed
END:VEVENT
END:VCALENDAR