BEGIN:VCALENDAR
VERSION:2.0
PRODID:-//Stillwater Rifle and Pistol Club - ECPv6.15.20//NONSGML v1.0//EN
CALSCALE:GREGORIAN
METHOD:PUBLISH
X-ORIGINAL-URL:https://srpc.info/wp
X-WR-CALDESC:Events for Stillwater Rifle and Pistol Club
REFRESH-INTERVAL;VALUE=DURATION:PT1H
X-Robots-Tag:noindex
X-PUBLISHED-TTL:PT1H
BEGIN:VTIMEZONE
TZID:America/Chicago
BEGIN:DAYLIGHT
TZOFFSETFROM:-0600
TZOFFSETTO:-0500
TZNAME:CDT
DTSTART:20250309T080000
END:DAYLIGHT
BEGIN:STANDARD
TZOFFSETFROM:-0500
TZOFFSETTO:-0600
TZNAME:CST
DTSTART:20251102T070000
END:STANDARD
BEGIN:DAYLIGHT
TZOFFSETFROM:-0600
TZOFFSETTO:-0500
TZNAME:CDT
DTSTART:20260308T080000
END:DAYLIGHT
BEGIN:STANDARD
TZOFFSETFROM:-0500
TZOFFSETTO:-0600
TZNAME:CST
DTSTART:20261101T070000
END:STANDARD
BEGIN:DAYLIGHT
TZOFFSETFROM:-0600
TZOFFSETTO:-0500
TZNAME:CDT
DTSTART:20270314T080000
END:DAYLIGHT
BEGIN:STANDARD
TZOFFSETFROM:-0500
TZOFFSETTO:-0600
TZNAME:CST
DTSTART:20271107T070000
END:STANDARD
END:VTIMEZONE
BEGIN:VEVENT
DTSTART;TZID=America/Chicago:20260607T143000
DTEND;TZID=America/Chicago:20260607T170000
DTSTAMP:20260424T171205
CREATED:20260324T144527Z
LAST-MODIFIED:20260324T144527Z
UID:3547-1780842600-1780851600@srpc.info
SUMMARY:D-Day Anniversary Match - Military Rifle & 1911 Pistol
DESCRIPTION:Military Rifle & 1911 Pistol
URL:https://srpc.info/wp/event/d-day-anniversary-match-military-rifle-1911-pistol/
CATEGORIES:Event
END:VEVENT
BEGIN:VEVENT
DTSTART;TZID=America/Chicago:20260609T190000
DTEND;TZID=America/Chicago:20260609T210000
DTSTAMP:20260424T171205
CREATED:20260324T144558Z
LAST-MODIFIED:20260324T144558Z
UID:3549-1781031600-1781038800@srpc.info
SUMMARY:Executive Board Meeting
DESCRIPTION:Stillwater Community Center \n 
URL:https://srpc.info/wp/event/executive-board-meeting-8/
LOCATION:Community Center\, 315 W 8th Ave\, Stillwater\, OK\, 74074\, United States
CATEGORIES:Executive Committee
END:VEVENT
BEGIN:VEVENT
DTSTART;TZID=America/Chicago:20260614T140000
DTEND;TZID=America/Chicago:20260614T170000
DTSTAMP:20260424T171205
CREATED:20260324T144627Z
LAST-MODIFIED:20260324T144627Z
UID:3551-1781445600-1781456400@srpc.info
SUMMARY:Shotgun Division Trap Shoot
DESCRIPTION:All are welcome to come and shoot! \nContact Mark Uhlman for more information. \nAt the SRPC trap range.
URL:https://srpc.info/wp/event/shotgun-division-trap-shoot-15/
CATEGORIES:Shotgun
END:VEVENT
BEGIN:VEVENT
DTSTART;TZID=America/Chicago:20260620T073000
DTEND;TZID=America/Chicago:20260620T170000
DTSTAMP:20260424T171205
CREATED:20260324T144706Z
LAST-MODIFIED:20260324T144706Z
UID:3553-1781940600-1781974800@srpc.info
SUMMARY:PRS22 Rimfire shoot
DESCRIPTION:Contact Joe Maehs (jmaehs@sbcglobal.net) for more information about the match \nhttps://www.precisionrifleseries.com/profiles/rimfire/CE \nSRPC Long-Range bays\, area closed for match
URL:https://srpc.info/wp/event/prs22-rimfire-shoot-36/
LOCATION:Gun Range
CATEGORIES:Event
END:VEVENT
BEGIN:VEVENT
DTSTART;TZID=America/Chicago:20260627T073000
DTEND;TZID=America/Chicago:20260627T150000
DTSTAMP:20260424T171205
CREATED:20260324T144732Z
LAST-MODIFIED:20260324T144732Z
UID:3555-1782545400-1782572400@srpc.info
SUMMARY:.22 BPCR Silhouette Match
DESCRIPTION:Contact John Gage (j_gage@sbcglobal.net) for more information about the match. \nFor more information about .22 BPCR http://www.22bpcra.com/
URL:https://srpc.info/wp/event/22-bpcr-silhouette-match-12/
CATEGORIES:Silhouette
END:VEVENT
BEGIN:VEVENT
DTSTART;TZID=America/Chicago:20260627T100000
DTEND;TZID=America/Chicago:20260627T120000
DTSTAMP:20260424T171205
CREATED:20260324T144803Z
LAST-MODIFIED:20260324T144803Z
UID:3557-1782554400-1782561600@srpc.info
SUMMARY:Range Orientation - 10am
DESCRIPTION:Meet at the Ranger Station on the westside of Lake McMurtry. \nSignup for the class by emailing instructor@srpc.info \n 
URL:https://srpc.info/wp/event/range-orientation-10am-15/
LOCATION:Ranger Station
CATEGORIES:Range Orientation
END:VEVENT
BEGIN:VEVENT
DTSTART;TZID=America/Chicago:20260628T143000
DTEND;TZID=America/Chicago:20260628T170000
DTSTAMP:20260424T171205
CREATED:20260324T144911Z
LAST-MODIFIED:20260324T144911Z
UID:3559-1782657000-1782666000@srpc.info
SUMMARY:Police Qualification Course Match
DESCRIPTION:@ Marvin Abbott’s Range \nContact drycreekis@aol.com to sign up for the match \n 
URL:https://srpc.info/wp/event/police-qualification-course-match-14/
CATEGORIES:Event
END:VEVENT
END:VCALENDAR