BEGIN:VCALENDAR
VERSION:2.0
PRODID:-//Stillwater Rifle and Pistol Club - ECPv6.15.20//NONSGML v1.0//EN
CALSCALE:GREGORIAN
METHOD:PUBLISH
X-ORIGINAL-URL:https://srpc.info/wp
X-WR-CALDESC:Events for Stillwater Rifle and Pistol Club
REFRESH-INTERVAL;VALUE=DURATION:PT1H
X-Robots-Tag:noindex
X-PUBLISHED-TTL:PT1H
BEGIN:VTIMEZONE
TZID:America/Chicago
BEGIN:DAYLIGHT
TZOFFSETFROM:-0600
TZOFFSETTO:-0500
TZNAME:CDT
DTSTART:20250309T080000
END:DAYLIGHT
BEGIN:STANDARD
TZOFFSETFROM:-0500
TZOFFSETTO:-0600
TZNAME:CST
DTSTART:20251102T070000
END:STANDARD
BEGIN:DAYLIGHT
TZOFFSETFROM:-0600
TZOFFSETTO:-0500
TZNAME:CDT
DTSTART:20260308T080000
END:DAYLIGHT
BEGIN:STANDARD
TZOFFSETFROM:-0500
TZOFFSETTO:-0600
TZNAME:CST
DTSTART:20261101T070000
END:STANDARD
BEGIN:DAYLIGHT
TZOFFSETFROM:-0600
TZOFFSETTO:-0500
TZNAME:CDT
DTSTART:20270314T080000
END:DAYLIGHT
BEGIN:STANDARD
TZOFFSETFROM:-0500
TZOFFSETTO:-0600
TZNAME:CST
DTSTART:20271107T070000
END:STANDARD
END:VTIMEZONE
BEGIN:VEVENT
DTSTART;TZID=America/Chicago:20260905T090000
DTEND;TZID=America/Chicago:20260905T140000
DTSTAMP:20260424T223215
CREATED:20260416T142742Z
LAST-MODIFIED:20260416T142742Z
UID:3592-1788598800-1788616800@srpc.info
SUMMARY:Work Day
DESCRIPTION:All shooting lanes are closed for maintenance: \n\nSaturday – 9am to 2pm\n\nIf you have questions about work day activities\, please contact Executive@srpc.info
URL:https://srpc.info/wp/event/work-day-22/
CATEGORIES:Work Day
END:VEVENT
BEGIN:VEVENT
DTSTART;TZID=America/Chicago:20260913T140000
DTEND;TZID=America/Chicago:20260913T170000
DTSTAMP:20260424T223215
CREATED:20260416T142808Z
LAST-MODIFIED:20260416T142808Z
UID:3594-1789308000-1789318800@srpc.info
SUMMARY:Shotgun Division Trap Shoot
DESCRIPTION:All are welcome to come and shoot! \nContact Mark Uhlman for more information. \nAt the SRPC trap range.
URL:https://srpc.info/wp/event/shotgun-division-trap-shoot-18/
CATEGORIES:Shotgun
END:VEVENT
BEGIN:VEVENT
DTSTART;TZID=America/Chicago:20260919T073000
DTEND;TZID=America/Chicago:20260919T170000
DTSTAMP:20260424T223215
CREATED:20260416T143505Z
LAST-MODIFIED:20260416T143505Z
UID:3596-1789803000-1789837200@srpc.info
SUMMARY:PRS22 Rimfire shoot
DESCRIPTION:Contact Joe Maehs (jmaehs@sbcglobal.net) for more information about the match \nhttps://www.precisionrifleseries.com/profiles/rimfire/CE \nSRPC Long-Range bays\, area closed for match
URL:https://srpc.info/wp/event/prs22-rimfire-shoot-39/
LOCATION:Gun Range
CATEGORIES:Event
END:VEVENT
BEGIN:VEVENT
DTSTART;TZID=America/Chicago:20260926T073000
DTEND;TZID=America/Chicago:20260926T150000
DTSTAMP:20260424T223215
CREATED:20260416T143751Z
LAST-MODIFIED:20260416T143751Z
UID:3598-1790407800-1790434800@srpc.info
SUMMARY:.22 BPCR Silhouette Match
DESCRIPTION:Contact John Gage (j_gage@sbcglobal.net) for more information about the match. \nFor more information about .22 BPCR http://www.22bpcra.com/
URL:https://srpc.info/wp/event/22-bpcr-silhouette-match-15/
CATEGORIES:Silhouette
END:VEVENT
BEGIN:VEVENT
DTSTART;TZID=America/Chicago:20260927T140000
DTEND;TZID=America/Chicago:20260927T150000
DTSTAMP:20260424T223215
CREATED:20260416T143925Z
LAST-MODIFIED:20260416T143925Z
UID:3602-1790517600-1790521200@srpc.info
SUMMARY:Range Orientation - 2pm
DESCRIPTION:Meet at the Ranger Station on the westside of Lake McMurtry. \nSignup for the class by emailing instructor@srpc.info \n 
URL:https://srpc.info/wp/event/range-orientation-2pm-18/
LOCATION:Ranger Station
CATEGORIES:Range Orientation
END:VEVENT
BEGIN:VEVENT
DTSTART;TZID=America/Chicago:20260927T143000
DTEND;TZID=America/Chicago:20260927T170000
DTSTAMP:20260424T223215
CREATED:20260416T143838Z
LAST-MODIFIED:20260416T143838Z
UID:3600-1790519400-1790528400@srpc.info
SUMMARY:Police Qualification Course Match
DESCRIPTION:@ Marvin Abbott’s Range \nContact drycreekis@aol.com to sign up for the match \n 
URL:https://srpc.info/wp/event/police-qualification-course-match-15/
CATEGORIES:Event
END:VEVENT
END:VCALENDAR